BEGIN:VCALENDAR
VERSION:2.0
PRODID:-//ChamberMaster//Event Calendar 2.0//EN
METHOD:PUBLISH
X-PUBLISHED-TTL:P3D
REFRESH-INTERVAL:P3D
CALSCALE:GREGORIAN
BEGIN:VEVENT
DTSTART:20210911T130000Z
DTEND:20210911T180000Z
X-MICROSOFT-CDO-ALLDAYEVENT:FALSE
SUMMARY:The Picker's Daughter Fall Open House
DESCRIPTION:Fall means cozy flannels\, yummy Fall scents\, bonfires\, camping\, beautiful colors and warmth to your home and pure happiness to your soul!\n\n\n\nJoin us as we welcome the Fall Season! Come see what 80+ vendors will have new...beautiful home decor\, 1803 Fall/Winter candle scents\, Black Crow Candles\, Myra Bags\, Boutique\, Floral\, Jewelry\, Cards and more!\n\n\n\nWe will have sales\, discounts\, give-aways\, new product\, samples and the perfect place to get all your Fall shopping in! Something for everyone!\n\n\n\nMark interested in this event to stay up to date between now and September 4th!
X-ALT-DESC;FMTTYPE=text/html:<span style="color: rgb(29\, 33\, 41)\; font-family: Helvetica\, Arial\, sans-serif\; font-size: 14px\; white-space: pre-wrap\;">Fall means cozy flannels\, yummy Fall scents\, bonfires\, camping\, beautiful colors and warmth to your home and pure happiness to your soul!</span><br />\n<br style="color: rgb(29\, 33\, 41)\; font-family: Helvetica\, Arial\, sans-serif\; font-size: 14px\; white-space: pre-wrap\;" />\n<span style="color: rgb(29\, 33\, 41)\; font-family: Helvetica\, Arial\, sans-serif\; font-size: 14px\; white-space: pre-wrap\;">Join us as we welcome the Fall Season! Come see what 80+ vendors will have new...beautiful home decor\, 1803 Fall/Winter candle scents\, Black Crow Candles\, Myra Bags\, Boutique\, Floral\, Jewelry\, Cards and more!</span><br />\n<br style="color: rgb(29\, 33\, 41)\; font-family: Helvetica\, Arial\, sans-serif\; font-size: 14px\; white-space: pre-wrap\;" />\n<span style="color: rgb(29\, 33\, 41)\; font-family: Helvetica\, Arial\, sans-serif\; font-size: 14px\; white-space: pre-wrap\;">We will have sales\, discounts\, give-aways\, new product\, samples and the perfect place to get all your Fall shopping in! Something for everyone!</span><br />\n<br style="color: rgb(29\, 33\, 41)\; font-family: Helvetica\, Arial\, sans-serif\; font-size: 14px\; white-space: pre-wrap\;" />\n<span style="color: rgb(29\, 33\, 41)\; font-family: Helvetica\, Arial\, sans-serif\; font-size: 14px\; white-space: pre-wrap\;">Mark interested in this event to stay up to date between now and September 4th!</span>
LOCATION:The Pickers Daughter 125 E Washington St East Peoria\, IL 61611
UID:e.526.6764
SEQUENCE:3
DTSTAMP:20260425T023423Z
URL:https://epcc-gzcms.preview.gochambermaster.com/events/details/the-picker-s-daughter-fall-open-house-6764
END:VEVENT

END:VCALENDAR
