BEGIN:VCALENDAR
VERSION:2.0
PRODID:-//ChamberMaster//Event Calendar 2.0//EN
METHOD:PUBLISH
X-PUBLISHED-TTL:P3D
REFRESH-INTERVAL:P3D
CALSCALE:GREGORIAN
BEGIN:VEVENT
DTSTART;VALUE=DATE:20220520
DTEND;VALUE=DATE:20220521
TRANSP:TRANSPARENT
X-MICROSOFT-CDO-ALLDAYEVENT:TRUE
SUMMARY:Teen Challenge Annual Golf Outing
DESCRIPTION:Teen Challenge Summer Golf Classic\n\n\n\n8:00 am Shotgun Start\n\nIndividual: $150.00\n\nFoursome: $600.00\n\n\n\nIncludes cart\, driving range\, snacks\, beverages\, awards luncheon\, golf ball bags\n\n\n\nPrizes:\n\nHole in One: 2022 Chevy Silverado Courtesy of Ray Dennison Chevrolet Hole in One: $25\,000\n\nHole in One: $10\,000\n\nLongest Drive:\n\nLongest Putt:\n\nClosest to the Pin:\n\nLowest Team Score: 1st\, 2nd\, 3rd Raffles
X-ALT-DESC;FMTTYPE=text/html:Teen Challenge Summer Golf Classic<br />\n<br />\n8:00 am Shotgun Start<br />\nIndividual: $150.00<br />\nFoursome: $600.00<br />\n<br />\nIncludes cart\, driving range\, snacks\, beverages\, awards luncheon\, golf ball bags<br />\n<br />\nPrizes:<br />\nHole in One: 2022 Chevy Silverado Courtesy of Ray Dennison Chevrolet Hole in One: $25\,000<br />\nHole in One: $10\,000<br />\nLongest Drive:<br />\nLongest Putt:<br />\nClosest to the Pin:<br />\nLowest Team Score: 1st\, 2nd\, 3rd Raffles
LOCATION:Metamora Fields Golf Club 801 Progress Street Metamora\, IL 61548
UID:e.526.6997
SEQUENCE:3
DTSTAMP:20260424T123404Z
URL:https://epcc-gzcms.preview.gochambermaster.com/events/details/teen-challenge-annual-golf-outing-6997
END:VEVENT

END:VCALENDAR
