BEGIN:VCALENDAR
VERSION:2.0
PRODID:-//ChamberMaster//Event Calendar 2.0//EN
METHOD:PUBLISH
X-PUBLISHED-TTL:P3D
REFRESH-INTERVAL:P3D
CALSCALE:GREGORIAN
BEGIN:VEVENT
DTSTART:20220316T133000Z
DTEND:20220316T143000Z
X-MICROSOFT-CDO-ALLDAYEVENT:FALSE
SUMMARY:Strategies and Opportunity in Vietnam
DESCRIPTION:The SEA Change Project\n\nThe Illinois SBDC International Trade Center at Bradley University (ITC) has been awarded a U.S. Department of Education BIE grant for our SEA Change project to assist companies with increasing exports to Southeast Asia (SEA).  As part of this effort\, the ITC has brought together trade specialists\, subject matter experts and consultants from around the country and across Asia to present a webinar series on this dynamic region.\n\n \n\nThe U.S. Administration is currently signaling a pivot to Asia to increase cooperation and trade\, particularly in Southeast Asia.  Moreover\, countries\, companies and even consumers are looking for alternatives to China due to supply chain issues and ongoing trade disputes\, making the region even more crucial to businesses' international success.\n\n \n\nSoutheast Asia Focus: Strategies and Opportunity in Vietnam \n\nVietnam is the hot market in Asia at the moment as a sourcing and manufacturing destination\, as well as a target for U.S. exports. According to the U.S. Commercial Service\, this country of over 98 million consumers exhibits the demographics needed for continuous growth over the next 20 years.  Our speakers will bring their years of experience in assisting U.S. companies export\, as well as their deep knowledge of Vietnam as residents of its largest and most exciting cities\, to offer strategies to the experienced Vietnam hands\, as well as companies new to the market.\n\nOur Speakers:\n\n \n\nKully Nelson\n\nCommercial Officer\, U.S. Embassy Hanoi\, Vietnamm U.S. Department of Commerce\n\n \n\nPrior to his posting to Vietnam\, Kully served at the DOC's Advocacy Center as regional manager for China and India.  Prior to the Advocacy Center\, he worked at U.S. Consulate Shanghai from 2012-2019 and the Commercial Service's San Francisco office from 2007-2012.  Before joining the U.S. Government\, Kully worked for Goldman Sachs in Hong Kong and Beijing New Oriental & Technology Group in Beijing.  He holds a master's degree in international finance from Brandeis University\, a bachelor's degree in economics from Saint Olaf College\, and a certificate in leadership and management from the University of Pennsylvania's Wharton School.\n\n\n\n \n\nDaniel Pint \n\nCommercial Officer\, U.S. Embassy Ho Chi Minh City\, Vietnam\, U.S. Department of Commerce\n\n \n\nAs a Commercial Officer in Ho Chi Minh City\, Daniel assists with trade counseling\, market research\, commercial diplomacy\, and trade advocacy. Prior to this\, Daniel worked at the U.S. Export Assistance Center in New York City where he helped American businesses win contracts with the United Nations and assisted New York City's food and franchising businesses with their exporting goals. \n\nPrior to joining the U.S. Commercial Service\, Daniel worked for New York City's Department of Information Technology and Telecommunications. In this role\, Daniel was responsible for the market research\, relationship management\, and project management related to his portfolio of technology vendors. \n\nBefore serving in New York City's technology agency\, Daniel provided program\, project\, and contract management support at the U.S. General Services Administration\, in both Washington\, D.C.\, and New York City. \n\nDaniel served for two years in the Peace Corps in Burkina Faso as a Small Business Development Agent. In this position\, Daniel partnered with a French-Canadian organization where he organized\, led\, and managed seminars and workshops on sustainable agricultural practices\, environmental preservation\, and agribusiness development.  \n\nAfter completing his Peace Corps service\, Daniel lived in Germany for two years\, receiving his M.S. in Consumer Affairs from the Technical University of Munich. Daniel also holds a B.S. in Business Administration in International Economics from the University of Florida. \n\n \n\nJohn Dwyer\n\nManaging Director\n\nPeregrine Management International\, LLC.\n\nHanoi\, Vietnam\n\n \n\nJohn is the founder and managing director of Peregrine Management International\, a management advisory firm located in Hanoi. Peregrine provides Vietnam market entry advice\, as well as advisory and training services relating to supply chain and manufacturing operations.  John is an active member in AmCham and founded and chairs AmCham Hanoi's Supply Chain & Manufacturing Committee.\n\n \n\nPrior to founding Peregrine Management International\, John worked at Polaris Inc.\, an American global specialty vehicle manufacturer. John moved to Vietnam to establish Polaris's subsidiary factory in Vinh Phuc province\, where he then served as General Director. During his time at Polaris\, John held several management roles in strategic sourcing\, new product introduction\, and project management. Before joining Polaris\, John spent ten years at Caterpillar\, Inc.\, in a variety of strategic sourcing and Six Sigma roles.\n\n \n\nJohn holds a Bachelor of Science degree in International Business (Asian Studies Minor) from Bradley University and a Master of Business Administration from the Carlson School of Management at the University of Minnesota. In addition to Vietnam\, John has previously lived in Tokyo\, Japan\, and Shanghai\, China.  John lives in Hanoi with his wife Haruko and three young children.
X-ALT-DESC;FMTTYPE=text/html:<strong><span style="font-family:georgia\,serif"><span style="font-size:12pt">The SEA Change Project</span></span></strong><br />\n<span style="font-family:georgia\,serif"><span style="font-size:12pt">The Illinois SBDC International Trade Center at Bradley University (ITC) has been awarded a U.S. Department of Education BIE grant for our <em>SEA Change</em> project to assist companies with increasing exports to Southeast Asia (SEA).&nbsp\; As part of this effort\, the ITC has brought together trade specialists\, subject matter experts and consultants from around the country and across Asia to present a webinar series on this dynamic region.</span></span><br />\n&nbsp\;<br />\n<span style="font-family:georgia\,serif"><span style="font-size:12.0pt">The U.S. Administration is currently signaling a pivot to Asia to increase cooperation and trade\, particularly in Southeast Asia.&nbsp\; Moreover\, countries\, companies and even consumers are looking for alternatives to China due to supply chain issues and ongoing trade disputes\, making the region even more crucial to businesses&rsquo\; international success.</span></span><br />\n&nbsp\;<br />\n<strong><span style="font-family:georgia\,serif"><span style="font-size:12pt">Southeast Asia Focus: Strategies and Opportunity in Vietnam </span></span></strong><br />\n<span style="font-family:georgia\,serif"><span style="font-size:12pt">Vietnam is the hot market in Asia at the moment as a sourcing and manufacturing destination\, as well as a target for U.S. exports. </span></span><span style="font-family:georgia\,serif"><span style="font-size:12.0pt">According to the U.S. Commercial Service\, this country of over 98 million consumers exhibits the demographics needed for continuous growth over the next 20 years.&nbsp\; </span></span><span style="font-family:georgia\,serif"><span style="font-size:12pt">Our speakers will bring their years of experience in assisting U.S. companies export\, as well as their deep knowledge of Vietnam </span></span><span style="font-family:georgia\,serif"><span style="font-size:12pt">as residents of its largest and most exciting cities\, to </span></span><span style="font-family:georgia\,serif"><span style="font-size:12pt">offer strategies to the experienced Vietnam hands\, as well as companies new to the market.</span></span><br />\n<strong><span style="font-family:georgia\,serif"><span style="font-size:12.0pt">Our Speakers:</span></span></strong><br />\n&nbsp\;<br />\n<strong><span style="font-family:georgia\,serif"><span style="font-size:12.0pt">Kully Nelson</span></span></strong><br />\n<span style="font-family:georgia\,serif"><span style="font-size:12.0pt">Commercial Officer\, </span></span><span style="font-family:georgia\,serif"><span style="font-size:12pt">U.S. Embassy Hanoi\, Vietnamm </span></span><span style="font-family:georgia\,serif"><span style="font-size:12pt">U.S. Department of Commerce</span></span><br />\n&nbsp\;<br />\n<span style="font-family:georgia\,serif"><span style="font-size:12.0pt">Prior to his posting to Vietnam\, Kully served at the DOC&#39\;s Advocacy Center as regional manager for China and India.&nbsp\; Prior to the Advocacy Center\, he worked at U.S. Consulate Shanghai from 2012-2019 and the Commercial Service&#39\;s San Francisco office from 2007-2012.&nbsp\; Before joining the U.S. Government\, Kully worked for Goldman Sachs in Hong Kong and Beijing New Oriental &amp\; Technology Group in Beijing.&nbsp\; He holds a master&#39\;s degree in international finance from Brandeis University\, a bachelor&#39\;s degree in economics from Saint Olaf College\, and a certificate in leadership and management from the University of Pennsylvania&#39\;s Wharton School.</span></span><br />\n<br />\n&nbsp\;<br />\n<strong><span style="font-family:georgia\,serif"><span style="font-size:12.0pt">Daniel Pint </span></span></strong><br />\n<span style="font-family:georgia\,serif"><span style="font-size:12.0pt">Commercial Officer\, </span></span><span style="font-family:georgia\,serif"><span style="font-size:12pt">U.S. Embassy </span></span><span style="font-family:georgia\,serif"><span style="font-size:12.0pt">Ho Chi Minh City</span></span><span style="font-family:georgia\,serif"><span style="font-size:12pt">\, Vietnam\, </span></span><span style="font-family:georgia\,serif"><span style="font-size:12pt">U.S. Department of Commerce</span></span><br />\n&nbsp\;<br />\n<span style="font-family:georgia\,serif"><span style="font-size:12.0pt">As a Commercial Officer in Ho Chi Minh City\,<span style="color:black"> Daniel assists with trade counseling\, market research\, commercial diplomacy\, and trade advocacy. Prior to this\, Daniel worked at the U.S. Export Assistance Center in New York City where he helped American businesses win contracts with the United Nations and assisted New York City&#39\;s food and franchising businesses with their exporting goals. </span></span></span><br />\n<span style="font-family:georgia\,serif"><span style="font-size:12.0pt">Prior to joining the U.S. Commercial Service\, Daniel worked for New York City&rsquo\;s Department of Information Technology and Telecommunications. In this role\, Daniel was responsible for the market research\, relationship management\, and project management related to his portfolio of technology vendors. </span></span><br />\n<span style="font-family:georgia\,serif"><span style="font-size:12.0pt">Before serving in New York City&rsquo\;s technology agency\, Daniel provided program\, project\, and contract management support at the U.S. General Services Administration\, in both Washington\, D.C.\, and New York City. </span></span><br />\n<span style="font-family:georgia\,serif"><span style="font-size:12.0pt">Daniel served for two years in the Peace Corps in Burkina Faso as a Small Business Development Agent. In this position\, Daniel partnered with a French-Canadian organization where he organized\, led\, and managed seminars and workshops on sustainable agricultural practices\, environmental preservation\, and agribusiness development.&nbsp\; </span></span><br />\n<span style="font-family:georgia\,serif"><span style="font-size:12.0pt">After completing his Peace Corps service\, Daniel lived in Germany for two years\, receiving his M.S. in Consumer Affairs from the Technical University of Munich. Daniel also holds a B.S. in Business Administration in International Economics from the University of Florida. </span></span><br />\n&nbsp\;<br />\n<strong><span style="font-family:georgia\,serif"><span style="font-size:12.0pt">John Dwyer</span></span></strong><br />\n<em><span style="font-family:georgia\,serif"><span style="font-size:12.0pt">Managing Director</span></span></em><br />\n<span style="font-family:georgia\,serif"><span style="font-size:12.0pt">Peregrine Management International\, LLC.</span></span><br />\n<span style="font-family:georgia\,serif"><span style="font-size:12.0pt">Hanoi\, Vietnam</span></span><br />\n&nbsp\;<br />\n<span style="color:#222222"><span style="font-family:georgia\,serif"><span style="font-size:12.0pt">John is the founder and managing director of Peregrine Management International\, a management advisory firm located in Hanoi. Peregrine provides Vietnam market entry advice\, as well as advisory and training services relating to supply chain and manufacturing operations.&nbsp\; John is an active member in AmCham and founded and chairs AmCham Hanoi&rsquo\;s Supply Chain &amp\; Manufacturing Committee.</span></span></span><br />\n&nbsp\;<br />\n<span style="color:#222222"><span style="font-family:georgia\,serif"><span style="font-size:12.0pt">Prior to founding Peregrine Management International\, John worked at Polaris Inc.\, an American global specialty vehicle manufacturer. John moved to Vietnam to establish Polaris&rsquo\;s subsidiary factory in Vinh Phuc province\, where he then served as General Director. During his time at Polaris\, John held several management roles in strategic sourcing\, new product introduction\, and project management. Before joining Polaris\, John spent ten years at Caterpillar\, Inc.\, in a variety of strategic sourcing and Six Sigma roles.</span></span></span><br />\n&nbsp\;<br />\n<span style="color:#222222"><span style="font-family:georgia\,serif"><span style="font-size:12.0pt">John holds a Bachelor of Science degree in International Business (Asian Studies Minor) from Bradley University and a Master of Business Administration from the Carlson School of Management at the University of Minnesota. In addition to Vietnam\, John has previously lived in Tokyo\, Japan\, and Shanghai\, China.&nbsp\; John lives in Hanoi with his wife Haruko and three young children.</span></span></span>
LOCATION:Live Zoom Webinar
UID:e.526.6942
SEQUENCE:3
DTSTAMP:20260424T185746Z
URL:https://epcc-gzcms.preview.gochambermaster.com/events/details/strategies-and-opportunity-in-vietnam-6942
END:VEVENT

END:VCALENDAR
