BEGIN:VCALENDAR
VERSION:2.0
PRODID:-//ChamberMaster//Event Calendar 2.0//EN
METHOD:PUBLISH
X-PUBLISHED-TTL:P3D
REFRESH-INTERVAL:P3D
CALSCALE:GREGORIAN
BEGIN:VEVENT
DTSTART:20240807T140000Z
DTEND:20240807T160000Z
X-MICROSOFT-CDO-ALLDAYEVENT:FALSE
SUMMARY:Starting Your Business in Illinois Workshop
DESCRIPTION:This in-person workshop is for aspiring entrepreneurs who want to learn all the components of how to start a successful business in Illinois. Get a realistic view of the requirements to start a business and the resources available to support your new venture. While attending this 2-hour workshop\, at no cost\, you will learn how to get your business name registered\, where to obtain a tax ID number\, which legal form to choose\, business planning\, taxes\, financing options and much more!  These events are sponsored by the Illinois Small Business Development Center at Bradley University and co-sponsored by Morton Community Bank and SCORE Peoria. (This workshop is intended for individuals who have not previously started/owned a business). No cost to attend\; however\, registration is required.\nPresenters for all workshops: Eric Sampson\, SBDC Director\;  Chris Youngmark\, Assistant SBDC Director\, Illinois Small Business Development Center\, Bradley University\, and Don Schwegel\, Vice President-Commercial Banker\, Morton Community Bank
X-ALT-DESC;FMTTYPE=text/html:<p style="text-align:justify"><span style="background-color:transparent\; color:rgb(0\, 0\, 0)\; font-family:arial\,sans-serif\; font-size:12pt">This </span><span style="background-color:transparent\; color:rgb(255\, 0\, 0)\; font-family:arial\,sans-serif\; font-size:12pt">in-person</span><span style="background-color:transparent\; color:rgb(0\, 0\, 0)\; font-family:arial\,sans-serif\; font-size:12pt"> workshop is for aspiring entrepreneurs who want to learn all the components of how to start a successful business in Illinois. Get a realistic view of the requirements to start a business and the resources available to support your new venture. While attending this 2-hour workshop\, </span><strong>at no cost</strong><span style="background-color:transparent\; color:rgb(0\, 0\, 0)\; font-family:arial\,sans-serif\; font-size:12pt">\, you will learn how to get your business name registered\, where to obtain a tax ID number\, which legal form to choose\, business planning\, taxes\, financing options and much more!&nbsp\; These events are sponsored by the Illinois Small Business Development Center at Bradley University and co-sponsored by Morton Community Bank and SCORE Peoria. (This workshop is intended for individuals who have not previously started/owned a business).</span><strong> No cost</strong><span style="background-color:transparent\; color:rgb(0\, 0\, 0)\; font-family:arial\,sans-serif\; font-size:12pt"> to attend\; however\, registration is required.</span></p>\n<strong>Presenters</strong><span style="background-color:transparent\; color:rgb(0\, 0\, 0)\; font-family:arial\,sans-serif\; font-size:12pt"> for all workshops: </span><a href="https://www.bradley.edu/academic/colleges/fcba/centers/turner/staff/profile.dot?id=63ac3662-3267-43d8-bd37-97e77e536505" style="text-decoration-line: none\;"><span style="background-color:transparent\; color:rgb(17\, 85\, 204)\; font-family:arial\,sans-serif\; font-size:12pt">Eric Sampson</span></a><span style="background-color:transparent\; color:rgb(0\, 0\, 0)\; font-family:arial\,sans-serif\; font-size:12pt">\, SBDC Director\;&nbsp\; </span><a href="https://www.bradley.edu/academic/colleges/fcba/centers/turner/staff/profile.dot?id=cffdb770-ac3a-4514-a564-c55720ca872f" style="text-decoration-line: none\;"><span style="background-color:transparent\; color:rgb(17\, 85\, 204)\; font-family:arial\,sans-serif\; font-size:12pt">Chris Youngmark</span></a><span style="background-color:transparent\; color:rgb(0\, 0\, 0)\; font-family:arial\,sans-serif\; font-size:12pt">\, Assistant SBDC Director\, Illinois Small Business Development Center\, Bradley University\, and </span><a href="https://www.linkedin.com/in/don-schwegel-47165612" style="text-decoration-line: none\;"><span style="background-color:transparent\; color:rgb(17\, 85\, 204)\; font-family:arial\,sans-serif\; font-size:12pt">Don Schwegel</span></a><span style="background-color:transparent\; color:rgb(0\, 0\, 0)\; font-family:arial\,sans-serif\; font-size:12pt">\, Vice President-Commercial Banker\, Morton Community Bank</span>
LOCATION:Peoria NEXT Innovation Center\, 801 W Main Street\, Peoria IL
UID:e.526.7379
SEQUENCE:3
DTSTAMP:20260420T134338Z
URL:https://epcc-gzcms.preview.gochambermaster.com/events/details/starting-your-business-in-illinois-workshop-08-07-2024-7379
END:VEVENT

END:VCALENDAR
