BEGIN:VCALENDAR
VERSION:2.0
PRODID:-//ChamberMaster//Event Calendar 2.0//EN
METHOD:PUBLISH
X-PUBLISHED-TTL:P3D
REFRESH-INTERVAL:P3D
CALSCALE:GREGORIAN
BEGIN:VEVENT
DTSTART:20240130T153000Z
DTEND:20240201T180000Z
X-MICROSOFT-CDO-ALLDAYEVENT:FALSE
SUMMARY:Sikich's 2024 Higher Education Forum
DESCRIPTION:Sikich's leading team of experts will host a three-day virtual forum January 30th   February 1st around topics of high relevance within the higher education industry. Our topics will span from GASB and FASB updates\, to AI technology use and planned giving campaigns. See link for detailed agenda on this year's event.\n\n\n\nTitles of those in the higher education industry who may have interest to attend: CFO\, CIO\, VP of Finance\, Director/ Manager/ Chief/ Senior Accountant\, Controller\, Human Resources\, etc.\n\n\n\nUp to 6.0 CPE credits available
X-ALT-DESC;FMTTYPE=text/html:<span style="background-color:rgb(255\, 255\, 255)\; color:rgb(68\, 68\, 68)\; font-family:calibri\,sans-serif\,mongolian baiti\,microsoft yi baiti\,javanese text\,yu gothic\; font-size:14.6667px">Sikich&rsquo\;s leading team of experts will host a three-day virtual forum January 30th &ndash\; February 1st around topics of high relevance within the higher education industry. Our topics will span from GASB and FASB updates\, to AI technology use and planned giving campaigns. See link for detailed agenda on this year&rsquo\;s event.<br />\n<br />\nTitles of those in the higher education industry who may have interest to attend: CFO\, CIO\, VP of Finance\, Director/ Manager/ Chief/ Senior Accountant\, Controller\, Human Resources\, etc.<br />\n<br />\nUp to 6.0 CPE credits available</span>
LOCATION:Virtual - Gotowebinar
UID:e.526.7358
SEQUENCE:3
DTSTAMP:20260421T225216Z
URL:https://epcc-gzcms.preview.gochambermaster.com/events/details/sikich-s-2024-higher-education-forum-7358
END:VEVENT

END:VCALENDAR
