BEGIN:VCALENDAR
VERSION:2.0
PRODID:-//ChamberMaster//Event Calendar 2.0//EN
METHOD:PUBLISH
X-PUBLISHED-TTL:P3D
REFRESH-INTERVAL:P3D
CALSCALE:GREGORIAN
BEGIN:VEVENT
DTSTART:20200804T163000Z
DTEND:20200804T173000Z
X-MICROSOFT-CDO-ALLDAYEVENT:FALSE
SUMMARY:Ribbon Cutting at Steamfitters Local Health Center
DESCRIPTION:Please join us for a ribbon cutting for Steamfitters Local Activate Health & Wellness Center at 11:30 am!
X-ALT-DESC;FMTTYPE=text/html:Please join us for a ribbon cutting for Steamfitters Local Activate Health &amp\; Wellness Center at 11:30 am!
LOCATION:Activate Healthcare & Wellness Center 204 W Washington St East Peoria\, IL 61611
UID:e.526.6453
SEQUENCE:3
DTSTAMP:20260426T032829Z
URL:https://epcc-gzcms.preview.gochambermaster.com/events/details/ribbon-cutting-at-steamfitters-local-health-center-6453
END:VEVENT

END:VCALENDAR
