BEGIN:VCALENDAR
VERSION:2.0
PRODID:-//ChamberMaster//Event Calendar 2.0//EN
METHOD:PUBLISH
X-PUBLISHED-TTL:P3D
REFRESH-INTERVAL:P3D
CALSCALE:GREGORIAN
BEGIN:VEVENT
DTSTART:20260515T120000Z
DTEND:20260515T133000Z
X-MICROSOFT-CDO-ALLDAYEVENT:FALSE
SUMMARY:EPCC - 2026 Mayor's Prayer Breakfast
DESCRIPTION:Registration opens April 20th!\n\n\n\nJoin us for the Mayor's Prayer Breakfast on May 15\, 2026! \n\nMore details to come!
X-ALT-DESC;FMTTYPE=text/html:Registration opens April 20th!<br />\n<br />\nJoin us for the Mayor&#39\;s Prayer Breakfast on May 15\, 2026!&nbsp\;<br />\nMore details to come!
LOCATION:Par-A-Dice Hotel & Casino 21 Blackjack Blvd\, East Peoria\, IL 61611
UID:e.526.7566
SEQUENCE:3
DTSTAMP:20260419T121036Z
URL:https://epcc-gzcms.preview.gochambermaster.com/events/details/epcc-2026-mayor-s-prayer-breakfast-7566
END:VEVENT

END:VCALENDAR
