BEGIN:VCALENDAR
VERSION:2.0
PRODID:-//ChamberMaster//Event Calendar 2.0//EN
METHOD:PUBLISH
X-PUBLISHED-TTL:P3D
REFRESH-INTERVAL:P3D
CALSCALE:GREGORIAN
BEGIN:VEVENT
DTSTART:20230911T170000Z
DTEND:20230911T180000Z
X-MICROSOFT-CDO-ALLDAYEVENT:FALSE
SUMMARY:Artificial Intelligence - What is the big deal and how can it help you and your business?
DESCRIPTION:The Turner Center for Entrepreneurship and Illinois Small Business Development Center at Bradley University is honored to present this captivating webinar at no cost to attendees.\n\n \n\nLearn the basic understanding of Artificial Intelligence technologies and the uses that are being applied in the business and social media arena. We will cover the platforms being used\, fears in the media\, and practical use of AI. Along with the fundamentals\, we will cover business automation examples and social media uses. We'll have a Q & A at the end with the speaker if time permits.\n\n \n\nTopics:\n\nBrief Intro to Artificial Intelligence.\n\nWhat are some of the different AI platforms available? \n\nHelp me understand AI using some practical examples.\n\nSome examples of business automation using AI.\n\nUsing AI for Social Media to help my business.\n\nFeedback\, Questions\, Live AI session\n\n \n\nAt SKB Cyber\, we take pride in being an experienced technology and cybersecurity consulting firm dedicated to serving small to mid-sized businesses across the United States. With over twenty-five years in technology consulting\, our team of skilled professionals combines their deep knowledge with a keen understanding of the evolving technology landscape across diverse industries. Whether you are in manufacturing\, healthcare\, banking\, or beyond\, our client-centric approach empowers your business to take charge of its success as we navigate the complex world of cybersecurity and technology solutions.\n\n \n\nDan Hucal\, Technology Consultant Leader with SKB Cyber\, is a cross industry infrastructure expert specializing in technology assessment/audits and strategic development for IT digital transformations. He leads implementations and support of operations\, due diligence\, and cloud migration projects. A background of 25+ years of IT experience that covers almost all aspects of IT and levels of support on both the technical and management side of the industry.
X-ALT-DESC;FMTTYPE=text/html:<span style="font-family:times new roman\,serif">The Turner Center for Entrepreneurship and Illinois Small Business Development Center at Bradley University is honored to present this captivating webinar at no cost to attendees.</span><br />\n&nbsp\;<br />\n<span style="font-family:times new roman\,serif">Learn the basic understanding of Artificial Intelligence technologies and the uses that are being applied in the business and social media arena. We will cover the platforms being used\, fears in the media\, and practical use of AI. Along with the fundamentals\, we will cover business automation examples and social media uses. We&rsquo\;ll have a Q &amp\; A at the end with the speaker if time permits.</span><br />\n&nbsp\;<br />\n<span style="font-family:times new roman\,serif">Topics:</span><br />\n<span style="font-family:times new roman\,serif">Brief Intro to Artificial Intelligence.</span><br />\n<span style="font-family:times new roman\,serif">What are some of the different AI platforms available? </span><br />\n<span style="font-family:times new roman\,serif">Help me understand AI using some practical examples.</span><br />\n<span style="font-family:times new roman\,serif">Some examples of business automation using AI.</span><br />\n<span style="font-family:times new roman\,serif">Using AI for Social Media to help my business.</span><br />\n<span style="font-family:times new roman\,serif">Feedback\, Questions\, Live AI session</span><br />\n&nbsp\;<br />\n<span style="font-family:times new roman\,serif">At SKB Cyber\, we take pride in being an experienced technology and cybersecurity consulting firm dedicated to serving small to mid-sized businesses across the United States. With over twenty-five years in technology consulting\, our team of skilled professionals combines their deep knowledge with a keen understanding of the evolving technology landscape across diverse industries. Whether you are in manufacturing\, healthcare\, banking\, or beyond\, our client-centric approach empowers your business to take charge of its success as we navigate the complex world of cybersecurity and technology solutions.</span><br />\n&nbsp\;<br />\n<span style="font-family:times new roman\,serif">Dan Hucal\, Technology Consultant Leader with SKB Cyber\, is a cross industry infrastructure expert specializing in technology assessment/audits and strategic development for IT digital transformations. He leads implementations and support of operations\, due diligence\, and cloud migration projects. A background of 25+ years of IT experience that covers almost all aspects of IT and levels of support on both the technical and management side of the industry. </span><br />\n&nbsp\;<br />\n<br />\n&nbsp\;
LOCATION:Online
UID:e.526.7293
SEQUENCE:3
DTSTAMP:20260422T075944Z
URL:https://epcc-gzcms.preview.gochambermaster.com/events/details/artificial-intelligence-what-is-the-big-deal-and-how-can-it-help-me-and-my-business-7293
END:VEVENT

END:VCALENDAR
